BEGIN:VCALENDAR
VERSION:2.0
PRODID:Events Booking
BEGIN:VEVENT
UID:69e82b8dee516
SUMMARY:Explore Top Online Courses: Education Marketplace Showcase
DESCRIPTION:Join us for a showcase of premier online courses from our educa
 tion marketplace. Discover career-enhancing skills\, personal growth oppor
 tunities\, and engaging hobbies with expert-led demonstrations and exclusi
 ve offers. Don’t miss out—secure your spot today!
DTSTART:20240917T020000Z
DTEND:20240913T070000Z
DTSTAMP:20240623T183407Z
ORGANIZER;CN=Debel - Projects\, Services & Events Marketplace:MAILTO:admin@
 debel.app
END:VEVENT
END:VCALENDAR